BEGIN:VCALENDAR
VERSION:2.0
PRODID:-//San Carlos Life - ECPv6.15.15//NONSGML v1.0//EN
CALSCALE:GREGORIAN
METHOD:PUBLISH
X-WR-CALNAME:San Carlos Life
X-ORIGINAL-URL:https://sancarloslife.com
X-WR-CALDESC:Events for San Carlos Life
REFRESH-INTERVAL;VALUE=DURATION:PT1H
X-Robots-Tag:noindex
X-PUBLISHED-TTL:PT1H
BEGIN:VTIMEZONE
TZID:America/Los_Angeles
BEGIN:DAYLIGHT
TZOFFSETFROM:-0800
TZOFFSETTO:-0700
TZNAME:PDT
DTSTART:20250309T100000
END:DAYLIGHT
BEGIN:STANDARD
TZOFFSETFROM:-0700
TZOFFSETTO:-0800
TZNAME:PST
DTSTART:20251102T090000
END:STANDARD
BEGIN:DAYLIGHT
TZOFFSETFROM:-0800
TZOFFSETTO:-0700
TZNAME:PDT
DTSTART:20260308T100000
END:DAYLIGHT
BEGIN:STANDARD
TZOFFSETFROM:-0700
TZOFFSETTO:-0800
TZNAME:PST
DTSTART:20261101T090000
END:STANDARD
BEGIN:DAYLIGHT
TZOFFSETFROM:-0800
TZOFFSETTO:-0700
TZNAME:PDT
DTSTART:20270314T100000
END:DAYLIGHT
BEGIN:STANDARD
TZOFFSETFROM:-0700
TZOFFSETTO:-0800
TZNAME:PST
DTSTART:20271107T090000
END:STANDARD
END:VTIMEZONE
BEGIN:VEVENT
DTSTART;TZID=America/Los_Angeles:20260307T083000
DTEND;TZID=America/Los_Angeles:20260307T120000
DTSTAMP:20260421T060234
CREATED:20260302T221334Z
LAST-MODIFIED:20260302T221458Z
UID:10005186-1772872200-1772884800@sancarloslife.com
SUMMARY:Yoga\, Pilates & Planes - Get ready to rise\, flow\, and feel unstoppable!
DESCRIPTION:Yoga\, Pilates & Planes\nGet ready for takeoff…on the mat. ✈️\nThere are workouts—and then there are experiences that elevate you in every sense of the word. This season\, prepare to rise above the ordinary at Yoga\, Pilates & Planes\, an unforgettable wellness event set against the inspiring backdrop of the Hiller Aviation Museum. \nGet ready for takeoff…on the mat. ✈️\nJoin us at the iconic Hiller Aviation Museum for Yoga\, Pilates & Planes\, our signature fusion class.\nAbout this Event\nGet ready for takeoff…on the mat. ✈️\nJoin us at the iconic Hiller Aviation Museum for Yoga\, Pilates & Planes\, our signature fusion class where strength meets stretch beneath the wings of historic aircraft. \nThis one-of-a-kind experience blends mindful movement\, energizing flow\, and an atmosphere that will literally lift your spirits. Hosted by Yoga Pilates Travel\, this event is more than a workout; it’s an adventure. \nEvery participant will also receive a specially curated goodie bag to keep the post-class glow going long after we land.\nLimited to 150 guests. \n\nA Fitness Experience Like No Other\nImagine rolling out your mat beneath suspended aircraft\, surrounded by the innovation and imagination that shaped aviation history. The museum setting creates a powerful visual reminder of what is possible when strength\, precision\, and vision align—qualities mirrored in both yoga and Pilates practice. \nYoga\, Pilates & Planes is designed as a signature fusion class\, seamlessly integrating the grounding breathwork and flexibility of yoga with the core-strengthening\, alignment-focused precision of Pilates. The result is a balanced\, full-body experience that builds endurance while promoting mobility and mindful awareness. \nParticipants can expect: \n\nA dynamic warm-up to awaken muscles and prepare for lift-off\nFlow sequences that improve balance\, flexibility\, and coordination\nTargeted Pilates segments to strengthen the core and stabilize joints\nA restorative cool-down that encourages relaxation and recovery\n\nThe combination ensures that whether you are a seasoned practitioner or a curious beginner\, you will leave feeling stronger\, longer\, and lighter. \nStrength Meets Stretch Beneath Historic Wings\nThere is something undeniably powerful about practicing movement in a space dedicated to exploration and innovation. Beneath the wings of historic aircraft\, each stretch feels expansive\, each breath deeper. The environment amplifies the intention of the class: to move with purpose\, to find strength within softness\, and to rise beyond perceived limits. \nThe open museum floor provides an atmosphere that is both energizing and inspiring. Sunlight filtering through expansive windows\, the silhouettes of aircraft overhead\, and the quiet hum of anticipation from fellow participants create a shared experience rooted in connection. \nUnlike a typical studio class\, this event invites you to engage with your surroundings. The symbolism of flight—freedom\, courage\, forward motion—becomes part of the practice itself. \nMore Than a Workout—It’s an Adventure\nHosted by Yoga Pilates Travel\, Yoga\, Pilates & Planes is thoughtfully curated to feel like a wellness getaway condensed into a single morning. From the moment you check in\, the energy is welcoming and vibrant. Attendees gather not only for fitness but for community. \nThe instructors guide participants through intentional transitions\, offering modifications and encouragement along the way. The pace builds gradually\, creating a satisfying rhythm that mirrors the anticipation of takeoff. As your heart rate rises and your breath steadies\, you may find yourself fully immersed—present\, focused\, and uplifted. \nBy the final savasana\, the museum feels transformed into a sanctuary of calm. The journey from movement to stillness becomes a metaphor for travel itself: departure\, exploration\, and arrival. \nA Curated Goodie Bag to Extend the Glow\nWellness doesn’t end when the class does. Every participant will receive a specially curated goodie bag designed to extend that post-class radiance long after we land. Expect thoughtfully selected items that complement your practice—wellness essentials\, lifestyle treats\, and surprises that reflect the spirit of the event. \nIt’s a small but meaningful touch that reinforces the intention behind Yoga\, Pilates & Planes: to create an experience that lingers beyond the mat. \nLimited to 150 Guests\nTo maintain an intimate and elevated atmosphere\, this event is limited to 150 guests. The capped attendance ensures ample space for movement\, comfort\, and connection. It also fosters a sense of exclusivity—those who attend become part of a shared memory that feels both personal and collective. \nEarly arrival is encouraged to allow time for check-in\, settling onto your mat\, and soaking in the extraordinary setting before class begins. \nWhy You Should Attend\nIf you’ve been searching for a way to refresh your routine\, reconnect with your body\, or try something truly different\, Yoga\, Pilates & Planes offers all of that and more. \nYou will: \n\nStrengthen and lengthen your muscles through a balanced fusion format\nExperience mindful movement in a breathtaking\, unconventional venue\nConnect with a community that values wellness and adventure\nLeave feeling energized\, centered\, and inspired\n\nThis event is ideal for individuals\, friends\, couples\, or even team-building groups looking for a memorable and meaningful morning experience. \nEvent Details\nDate & Location\nSat\, 07 Mar • 08:30 AM (GMT-08:00) \nHiller Aviation Museum\n601 Skyway Road\, San Carlos\, United States \nDoors open prior to the 8:30 AM start time\, so participants are encouraged to arrive early\, settle in\, and prepare for an unforgettable takeoff. \n\nYoga\, Pilates & Planes invites you to step out of the studio and into a space where movement meets momentum. Beneath the wings of innovation\, surrounded by history and possibility\, you will stretch farther\, strengthen deeper\, and breathe fuller. \nSo roll out your mat. Set your intention. And get ready for takeoff—on the mat. ✈️ \n  \n  \n\nSee other interesting events in San Carlos. You may also check the main calendar for the dates of these\, or to save them on your personal calendar. \n\n\nDon't miss out!Subscribe To San Carlos LifeAdd your email here to subscribe to all things San Carlos Invalid email address Give it a try. You can unsubscribe at any time.Thanks for subscribing!\n\n\nWhat’s Great about San Carlos? \n \n\nAbout San Carlos Life\nMark Martinho and Vivienne Kelvin are the hosts of San Carlos Life and have been residents of San Carlos for years. While running San Carlos Life together with an awesome team\, Mark and Viv are also in the business of real estate. They are the co-owners of Vabrato\, a real estate brokerage with over 30 years of combined experience\, serving the City of Good Living and the whole of San Mateo and Santa Clara counties. \nWith expert negotiation skills\, in-depth local market knowledge\, precise pricing strategies\, and the latest technology paired with innovative marketing tactics\, they consistently deliver exceptional results. Their proven track record includes helping sellers obtain offers above the asking price and guiding buyers to successfully secure their dream home. \nVabrato offers home sellers a comprehensive\, one-stop solution that sets them apart from most traditional agents. Through their Design-to-Sell Service Package\, they provide strategic property upgrades\, cover upfront improvement costs\, and manage the entire process from start to finish to maximize the net proceeds for the seller. \nMark is a Real Estate Broker and General Contractor\, with degrees in Mechanical Engineering and Law. He is also a long-time resident of Redwood City and San Carlos. Viv is also a Broker\, respected Interior Designer\, seasoned Marketing Expert\, and trusted San Carlos business community leader\, as well as a long-time San Carlos resident. \nNeed help in buying or selling a home in San Carlos?\nIf you’re curious what your current home might sell for\, we’ll provide a free\, detailed market valuation and show you how our Design-to-Sell Service Package can help maximize its value. And if you’re looking to buy\, we’ll guide you with the right strategy to find and secure the home you’ve been searching for. With our unique blend of real estate\, design\, and construction expertise\, we go beyond the average Realtor to help every client achieve and exceed their goals. \nContact Mark and Viv of Vabrato Real Estate
URL:https://sancarloslife.com/event/yoga-pilates-planes/
LOCATION:Hiller Aviation Museum\, 601 Skyway Road\, San Carlos\, CA\, 94070\, United States
CATEGORIES:Adult Activities,Hiller Aviation Museum Events,Main Events
ATTACH;FMTTYPE=image/jpeg:https://sancarloslife.com/wp-content/uploads/2026/03/348a931eb5e04ce1d007c12fa290e1495ead34fa8dc37387acfc50d06adfc0ad-rimg-w512-h286-dc7a7972-gmir.jpg
ORGANIZER;CN="Hiller Aviation Museum":MAILTO:museum@hiller.org
END:VEVENT
BEGIN:VEVENT
DTSTART;TZID=America/Los_Angeles:20260321T100000
DTEND;TZID=America/Los_Angeles:20260321T150000
DTSTAMP:20260421T060234
CREATED:20260318T160804Z
LAST-MODIFIED:20260318T161710Z
UID:10005195-1774087200-1774105200@sancarloslife.com
SUMMARY:Garden Steam Model Railroad - All aboard for a day of fun\, discovery\, and a little bit of steam-powered magic!
DESCRIPTION:Garden Steam Model Railroad\nThere’s something undeniably magical about steam locomotives—the rhythmic chug of pistons\, the hiss of escaping vapor\, and the nostalgic charm that transports us to a bygone era of engineering brilliance. For enthusiasts\, families\, and the simply curious\, an upcoming event offers a rare chance to experience that magic up close in a uniquely personal setting. The Garden Steam Model Railroad\, happening on Saturday March 21\, 10AM – 3PM at the Hiller Aviation Museum\, promises a delightful blend of history\, craftsmanship\, and hands-on inspiration. \nHosted in collaboration with the Bay Area Garden Railroad Society\, this event showcases a fascinating world where railroading meets backyard creativity. Unlike the massive locomotives that once thundered across continents\, these models are designed to run in something far more intimate—your very own garden. Yet don’t let their size fool you. These miniature marvels are fully functional steam-powered machines\, built with incredible precision and attention to detail. \nAt the heart of the exhibit is a waist-high track that allows visitors to observe the trains at the perfect viewing level. This thoughtful design makes the experience accessible to everyone\, from young children seeing their first train to seasoned hobbyists eager to study the mechanics. As the locomotives glide along the track\, you’ll notice that they operate using the same fundamental principles as their full-sized counterparts. Each engine features a butane-fueled fire that heats water to produce steam. That steam\, in turn\, drives pistons that power the train forward—a technique that has been used in full-sized locomotives for over 175 years. \nWatching these live steam locomotives in action is nothing short of mesmerizing. As they move\, they emit soft\, rhythmic puffs of steam that drift into the air\, creating a scene that feels both historic and alive. The sight of these tiny engines working so authentically is a testament to the dedication and skill of the builders who bring them to life. Many of the models on display are inspired by classic designs\, offering a glimpse into the golden age of rail travel while celebrating the enduring appeal of steam technology. \nWhat makes this event especially engaging is its interactive and educational nature. Visitors have the opportunity to learn directly from members of the Bay Area Garden Railroad Society\, who are passionate about sharing their knowledge. Whether you’re curious about how to build your own model railroad\, interested in the engineering behind steam power\, or simply want to understand what makes this hobby so captivating\, there’s something here for you. Conversations flow easily as enthusiasts exchange tips\, stories\, and insights\, creating a welcoming atmosphere for newcomers and experts alike. \nBeyond the technical aspects\, the Garden Steam Model Railroad also highlights the artistic side of the hobby. These backyard railways are often designed to blend seamlessly with natural landscapes\, incorporating plants\, rocks\, and miniature structures to create immersive scenes. The result is a living\, evolving display that changes with the seasons and reflects the personality of its creator. It’s a reminder that model railroading is not just about mechanics—it’s also about imagination and storytelling. \nOf course\, as with any outdoor event\, there are a few practical considerations to keep in mind. The trains are displayed outdoors and are weather dependent\, meaning they will not run in the rain. Planning ahead and checking the forecast can help ensure you get the full experience. On a clear day\, however\, the open-air setting adds to the charm\, allowing the steam to billow freely and the trains to shine in natural light. \nThe Hiller Aviation Museum provides the perfect backdrop for this event. Known for its engaging exhibits and focus on innovation\, the museum offers a space where history and technology come together in inspiring ways. The Garden Steam Model Railroad fits seamlessly into this environment\, bridging the gap between aviation and railroading through a shared spirit of ingenuity and exploration. \nIf you find yourself captivated by the experience\, you’ll be pleased to know that there’s more to look forward to. You may also like the following events from Hiller Aviation Museum: next month\, on 12th April at 07:00 am\, the 10th Annual Airport Runway Run at San Carlos Airport in San Carlos. This exciting event offers a completely different kind of adventure\, inviting participants to run\, walk\, or stroll along an actual airport runway. \nIn a world increasingly dominated by digital experiences\, events like the Garden Steam Model Railroad offer a refreshing return to hands-on\, tangible enjoyment. They remind us of the beauty of mechanical ingenuity and the joy of watching something real come to life before our eyes. Whether you’re a lifelong train enthusiast or simply looking for a unique way to spend a Saturday\, this event is sure to leave a lasting impression. \nSo mark your calendar\, bring your curiosity\, and prepare to be transported—if only for a few hours—into the enchanting world of steam-powered railways. \n  \n  \n  \n\nSee other interesting events in San Carlos. You may also check the main calendar for the dates of these\, or to save them on your personal calendar. \n\n\nDon't miss out!Subscribe To San Carlos LifeAdd your email here to subscribe to all things San Carlos Invalid email address Give it a try. You can unsubscribe at any time.Thanks for subscribing!\n\nAbout San Carlos\nWhat’s Great about San Carlos? \n \nAbout Mark and Viv\nMark Martinho and Viv Kelvin are the owners of Vabrato Real Estate
URL:https://sancarloslife.com/event/garden-steam-model-railroad/
LOCATION:Hiller Aviation Museum\, 601 Skyway Road\, San Carlos\, CA\, 94070\, United States
CATEGORIES:Adult Activities,Hiller Aviation Museum,Hiller Aviation Museum Events,Main Events
ATTACH;FMTTYPE=image/jpeg:https://sancarloslife.com/wp-content/uploads/2026/03/51b16e2045eccdcf423a3ad862c105f25b9484cce9c4b667ecb8949fd9ac66d6-rimg-w1200-h879-dc908f8f-gmir.jpg
ORGANIZER;CN="Hiller Aviation Museum":MAILTO:museum@hiller.org
END:VEVENT
END:VCALENDAR