BEGIN:VCALENDAR
VERSION:2.0
PRODID:-//San Carlos Life - ECPv6.15.15//NONSGML v1.0//EN
CALSCALE:GREGORIAN
METHOD:PUBLISH
X-WR-CALNAME:San Carlos Life
X-ORIGINAL-URL:https://sancarloslife.com
X-WR-CALDESC:Events for San Carlos Life
REFRESH-INTERVAL;VALUE=DURATION:PT1H
X-Robots-Tag:noindex
X-PUBLISHED-TTL:PT1H
BEGIN:VTIMEZONE
TZID:America/Los_Angeles
BEGIN:DAYLIGHT
TZOFFSETFROM:-0800
TZOFFSETTO:-0700
TZNAME:PDT
DTSTART:20250309T100000
END:DAYLIGHT
BEGIN:STANDARD
TZOFFSETFROM:-0700
TZOFFSETTO:-0800
TZNAME:PST
DTSTART:20251102T090000
END:STANDARD
BEGIN:DAYLIGHT
TZOFFSETFROM:-0800
TZOFFSETTO:-0700
TZNAME:PDT
DTSTART:20260308T100000
END:DAYLIGHT
BEGIN:STANDARD
TZOFFSETFROM:-0700
TZOFFSETTO:-0800
TZNAME:PST
DTSTART:20261101T090000
END:STANDARD
BEGIN:DAYLIGHT
TZOFFSETFROM:-0800
TZOFFSETTO:-0700
TZNAME:PDT
DTSTART:20270314T100000
END:DAYLIGHT
BEGIN:STANDARD
TZOFFSETFROM:-0700
TZOFFSETTO:-0800
TZNAME:PST
DTSTART:20271107T090000
END:STANDARD
END:VTIMEZONE
BEGIN:VEVENT
DTSTART;TZID=America/Los_Angeles:20260115T180000
DTEND;TZID=America/Los_Angeles:20260115T220000
DTSTAMP:20260423T041802
CREATED:20260102T001835Z
LAST-MODIFIED:20260102T011904Z
UID:10005149-1768500000-1768514400@sancarloslife.com
SUMMARY:15th Anniversary AREAA San Francisco Peninsula Installation Gala: A Night to Aim High - Come and join Us in this wonderful and memorable event!
DESCRIPTION:15th Anniversary AREAA San Francisco Peninsula Installation Gala: A Night to Aim High\nThe Asian Real Estate Association of America (AREAA) San Francisco Peninsula Chapter proudly invites you to an unforgettable evening of celebration\, leadership\, and inspiration at the 15th Anniversary AREAA San Francisco Peninsula Installation Gala. This milestone event marks not only another successful year for the chapter but also the official installation of the 2026 Board of Directors—an evening designed to inspire\, connect\, and elevate our community. \nSet against the breathtaking backdrop of aviation history\, this year’s gala carries the bold and exciting theme: TOP GUN – AIM HIGH. The evening promises energy\, elegance\, and a powerful sense of forward momentum as we honor new leadership and celebrate the continued growth of the AREAA community. \n\nEvent Details\nYou Are Invited to the 2026 AREAA San Francisco–Peninsula Installation Gala\nDate: Thursday\, January 15\, 2026\nTime: 6:00 PM – 10:00 PM\nLocation: Hiller Aviation Museum\n601 Skyway Road\, San Carlos\, CA 94070 \nThis exclusive evening will celebrate the installation of Incoming 2026 President Harvey Young alongside the “Best of the Best” Board of Directors. Together\, they will chart a powerful course forward for the organization and its members. Expect an inspiring night filled with connection\, recognition\, and forward-thinking vision. \n\nArrive Early – Pre-Flight Experience\nGuests are encouraged to arrive early to take full advantage of the Pre-Flight Experience. Before the main program begins\, attendees will enjoy exclusive access to the renowned Hiller Aviation Museum. Explore historic aircraft\, take stunning photos among legendary planes\, and immerse yourself in the world of aviation as the excitement begins to build. \nA cocktail hour featuring curated drinks and appetizers will follow\, offering the perfect opportunity to reconnect with colleagues\, meet new professionals\, and set the tone for an extraordinary evening. \n\nDress Code: Top Gun Chic\nSuit up and get ready to impress. This year’s theme invites you to bring out your inner Maverick or Goose with Top Gun–inspired fashion. Think flight suits\, bomber jackets\, aviator sunglasses\, or elevated jet-set glamour. \nFor those who prefer a timeless look\, cocktail or business-smart attire is always welcome. Adding to the excitement\, the evening will feature a Best Aviation Costume Award\, so don’t hesitate to lean into the theme and stand out. \n\nParking & Arrival Information\nComplimentary parking is available at the venue. However\, guests are strongly encouraged to arrive early\, as traffic is expected and early arrival ensures full access to the pre-event museum experience. \n\n2026 Gala Sponsorship Package\nSupport the mission of AREAA while gaining premier visibility at one of the most anticipated events of the year. Sponsorships and tickets are available at the following rates: \nEarly Bird Pricing (Ends December 18\, 2025) \n\nGala Table (10 seats): $2\,000\nGala Individual Ticket: $225\n\nRegular Pricing \n\nGala Table (10 seats): $2\,500\nGala Individual Ticket: $275\n\nRegistration closes January 10\, 2026.\nPlease note: No ticket sales at the door. \n\nReserve Your Spot Today\nSeats are limited\, and this signature event is expected to sell out. Secure your place at this unforgettable evening of celebration\, leadership\, and connection. \n👉 REGISTER TODAY: https://areaasfpen.org/event-6427036 \nFor sponsorship inquiries or additional information\, please contact: \n📧 Vincent Ma — vince@missasianglobal.com\n📧 Harvey Young — harvey.youngareaa@gmail.com \n\nJoin us as we soar into 2026 with purpose\, pride\, and possibility. The 15th Anniversary AREAA San Francisco Peninsula Installation Gala is more than an event—it’s a celebration of leadership\, community\, and the limitless potential of what lies ahead. We look forward to welcoming you aboard. \n  \n  \n  \n\nSee other interesting events in San Carlos. You may also check the main calendar for the dates of these\, or to save them on your personal calendar. \n\n\nDon't miss out!Subscribe To San Carlos LifeAdd your email here to subscribe to all things San Carlos Invalid email address Give it a try. You can unsubscribe at any time.Thanks for subscribing!\n\nAbout San Carlos\nWhat’s Great about San Carlos? \n \nAbout San Carlos Life\nMark Martinho and Vivienne Kelvin are the hosts of San Carlos Life and have been residents of San Carlos for years. While running San Carlos Life together with an awesome team\, Mark and Viv are also in the business of real estate. They are the co-owners of Vabrato\, a luxury real estate brokerage serving the City of Good Living and the whole of San Mateo and Santa Clara counties. \nWith over 30 years of combined experience in the business and 95% of their clients coming in from referrals\, Mark and Viv take great pride and joy in exceeding your expectations. \nNeed help in buying or selling a home in San Carlos?\nWe’re never too busy for you or your referrals. If you know anyone who needs help in buying or selling a home in San Carlos\, we’d love to chat with them! \nContact Mark and Viv of Vabrato Real Estate \n  \n 
URL:https://sancarloslife.com/event/15th-anniversary-installation-gala/
LOCATION:CA
CATEGORIES:Adult Activities,Hiller Aviation Museum,Hiller Aviation Museum Events,Main Events
ATTACH;FMTTYPE=image/jpeg:https://sancarloslife.com/wp-content/uploads/2026/01/3cd789149f48fcef7cd2bd462955c5e3794d6381143fbc5fabcced32fd8e6190-rimg-w640-h360-dc010102-gmir.jpg
END:VEVENT
END:VCALENDAR